BEGIN:VCALENDAR
VERSION:2.0
PRODID:-//eventon.com NONSGML v1.0//EN
CALSCALE:GREGORIAN
METHOD:PUBLISH
BEGIN:VEVENT
UID:69e69dbc6b910
DTSTAMP:20260420T214220Z
DTSTART:20240312T190000Z
DTEND:20240312T210000Z
LOCATION:Hotel Du Vin &amp; Bistro Southgate Street
SUMMARY:Charity CEOs Think Tank with Charisma - 12 March 2024
DESCRIPTION:Michaela Johns | HWB Director Adam Stacey | Charisma                                                                                     [..] https://www.hwb-accountants.com/events/charity-ceos-think-tank-with-charisma/
URL:https://www.hwb-accountants.com/events/charity-ceos-think-tank-with-charisma/
END:VEVENT
END:VCALENDAR